BEGIN:VCALENDAR
VERSION:2.0
PRODID:icalendar-ruby
CALSCALE:GREGORIAN
METHOD:PUBLISH
BEGIN:VEVENT
DTSTAMP:20260423T162805Z
UID:5-384530@beulahthomas.tithelysetup2.com
DTSTART:20260719T173000Z
DTEND:20260719T183000Z
CLASS:PUBLIC
CREATED:20260407T073318
DESCRIPTION:Sunday Worship
LAST-MODIFIED:20260407T073318
LOCATION:
SUMMARY:Sunday Worship
URL;VALUE=URI:https://www.beulahthomaschurch.com/events/sunday-worship/2026
 -07-19
END:VEVENT
END:VCALENDAR
